BEGIN:VCALENDAR
VERSION:2.0
PRODID:-//eventon.com NONSGML v1.0//EN
BEGIN:VEVENT
UID:69e957b2946a7
DTSTAMP:20260422T182018
DTSTART:20220210T020000Z
DTEND:20220210T045000Z
LOCATION:Speakeasy 412 Congress Ave\,  Austin\,  Texas 78701
SUMMARY:Well Played
DESCRIPTION: Well Played
END:VEVENT
END:VCALENDAR