BEGIN:VCALENDAR
VERSION:2.0
PRODID:-//eventon.com NONSGML v1.0//EN
BEGIN:VEVENT
UID:69e9718c375dd
DTSTAMP:20260422T201036
DTSTART:20220301T020000Z
DTEND:20220301T045000Z
LOCATION:Speakeasy 412 Congress Ave\,  Austin\,  Texas 78701
SUMMARY:Open Mic Night
DESCRIPTION: Open Mic Night
END:VEVENT
END:VCALENDAR