BEGIN:VCALENDAR
VERSION:2.0
PRODID:-//eventon.com NONSGML v1.0//EN
BEGIN:VEVENT
UID:69e738309b54c
DTSTAMP:20260421T034120
DTSTART:20190419T023000Z
DTEND:20190419T045000Z
LOCATION:
SUMMARY:Geno Gottschall Band
DESCRIPTION: Geno Gottschall Band
END:VEVENT
END:VCALENDAR