BEGIN:VCALENDAR
VERSION:2.0
PRODID:-//eventon.com NONSGML v1.0//EN
BEGIN:VEVENT
UID:69e74d562a0ce
DTSTAMP:20260421T051134
DTSTART:20190414T024500Z
DTEND:20190414T045000Z
LOCATION:Speakeasy 412 Congress Ave\,  Austin\,  Texas 78701
SUMMARY:Rock Hard
DESCRIPTION: Rock Hard
END:VEVENT
END:VCALENDAR