BEGIN:VCALENDAR
VERSION:2.0
PRODID:-//eventon.com NONSGML v1.0//EN
BEGIN:VEVENT
UID:69e7660d59fd5
DTSTAMP:20260421T065701
DTSTART:20190413T024500Z
DTEND:20190413T045000Z
LOCATION:
SUMMARY:Safety Patrol (+ Funtronic Function @ T59)
DESCRIPTION: Safety Patrol (+ Funtronic Function @ T59)
END:VEVENT
END:VCALENDAR