BEGIN:VCALENDAR
VERSION:2.0
PRODID:-//eventon.com NONSGML v1.0//EN
BEGIN:VEVENT
UID:69e798081bed4
DTSTAMP:20260421T103016
DTSTART:20190501T023000Z
DTEND:20190501T045000Z
LOCATION:
SUMMARY:Kevin Taylor
DESCRIPTION: Kevin Taylor
END:VEVENT
END:VCALENDAR