BEGIN:VCALENDAR
VERSION:2.0
PRODID:-//eventon.com NONSGML v1.0//EN
BEGIN:VEVENT
UID:69e7c33265d59
DTSTAMP:20260421T133426
DTSTART:20190428T024500Z
DTEND:20190428T045000Z
LOCATION:
SUMMARY:The Trick Question
DESCRIPTION: The Trick Question
END:VEVENT
END:VCALENDAR