BEGIN:VCALENDAR
VERSION:2.0
PRODID:-//eventon.com NONSGML v1.0//EN
BEGIN:VEVENT
UID:69e7c86e82df4
DTSTAMP:20260421T135646
DTSTART:20190427T024500Z
DTEND:20190427T045000Z
LOCATION:
SUMMARY:Union Jacks
DESCRIPTION: Union Jacks
END:VEVENT
END:VCALENDAR