BEGIN:VCALENDAR
VERSION:2.0
PRODID:-//eventon.com NONSGML v1.0//EN
BEGIN:VEVENT
UID:69e7f6cd3c59f
DTSTAMP:20260421T171437
DTSTART:20190426T023000Z
DTEND:20190426T045000Z
LOCATION:Speakeasy 412 Congress Ave\,  Austin\,  Texas 78701
SUMMARY:The Vinyl Revival + Beth Lee & The Breakups
DESCRIPTION: The Vinyl Revival + Beth Lee & The Breakups
END:VEVENT
END:VCALENDAR