BEGIN:VCALENDAR
VERSION:2.0
PRODID:-//eventon.com NONSGML v1.0//EN
BEGIN:VEVENT
UID:69e7f62d32707
DTSTAMP:20260421T171157
DTSTART:20190421T024500Z
DTEND:20190421T045000Z
LOCATION:Speakeasy 412 Congress Ave\,  Austin\,  Texas 78701
SUMMARY:Suede
DESCRIPTION: Suede
END:VEVENT
END:VCALENDAR