BEGIN:VCALENDAR
VERSION:2.0
PRODID:-//eventon.com NONSGML v1.0//EN
BEGIN:VEVENT
UID:69e8114d97e0a
DTSTAMP:20260421T190741
DTSTART:20190420T024500Z
DTEND:20190420T045000Z
LOCATION:
SUMMARY:Austin Party Band (+ Funtronic Function @ T59)
DESCRIPTION: Austin Party Band (+ Funtronic Function @ T59)
END:VEVENT
END:VCALENDAR