BEGIN:VCALENDAR
VERSION:2.0
PRODID:-//eventon.com NONSGML v1.0//EN
BEGIN:VEVENT
UID:69e82a987c4f3
DTSTAMP:20260421T205536
DTSTART:20190419T023000Z
DTEND:20190419T045000Z
LOCATION:
SUMMARY:Oscar Ornelas' Big O Trio
DESCRIPTION: Oscar Ornelas' Big O Trio
END:VEVENT
END:VCALENDAR