BEGIN:VCALENDAR
VERSION:2.0
PRODID:-//eventon.com NONSGML v1.0//EN
BEGIN:VEVENT
UID:69e847585164b
DTSTAMP:20260421T225816
DTSTART:20190417T023000Z
DTEND:20190417T045000Z
LOCATION:
SUMMARY:Kevin Taylor
DESCRIPTION: Kevin Taylor
END:VEVENT
END:VCALENDAR