BEGIN:VCALENDAR
VERSION:2.0
PRODID:-//eventon.com NONSGML v1.0//EN
BEGIN:VEVENT
UID:69e8611c2bb4a
DTSTAMP:20260422T004812
DTSTART:20190412T000000Z
DTEND:20190412T045000Z
LOCATION:
SUMMARY:Internet Marketing Party
DESCRIPTION: Internet Marketing Party
END:VEVENT
END:VCALENDAR