BEGIN:VCALENDAR
VERSION:2.0
PRODID:-//eventon.com NONSGML v1.0//EN
BEGIN:VEVENT
UID:69e8797161f1f
DTSTAMP:20260422T023201
DTSTART:20190410T023000Z
DTEND:20190410T045000Z
LOCATION:
SUMMARY:Myke Miller
DESCRIPTION: Myke Miller
END:VEVENT
END:VCALENDAR