BEGIN:VCALENDAR
VERSION:2.0
PRODID:-//eventon.com NONSGML v1.0//EN
BEGIN:VEVENT
UID:69e5f84110ac1
DTSTAMP:20260420T045617
DTSTART:20190112T024500Z
DTEND:20190112T045000Z
LOCATION:Speakeasy 412 Congress Ave\,  Austin\,  Texas 78701
SUMMARY:Austin Nines
DESCRIPTION: Austin Nines
END:VEVENT
END:VCALENDAR