BEGIN:VCALENDAR
VERSION:2.0
PRODID:-//eventon.com NONSGML v1.0//EN
BEGIN:VEVENT
UID:69e89baca8233
DTSTAMP:20260422T045804
DTSTART:20190111T000000Z
DTEND:20190111T045000Z
LOCATION:
SUMMARY:Internet Marketing Party
DESCRIPTION: Internet Marketing Party
END:VEVENT
END:VCALENDAR