BEGIN:VCALENDAR
VERSION:2.0
PRODID:-//eventon.com NONSGML v1.0//EN
BEGIN:VEVENT
UID:69e8f48c679b7
DTSTAMP:20260422T111716
DTSTART:20190108T023000Z
DTEND:20190108T045000Z
LOCATION:Speakeasy 412 Congress Ave\,  Austin\,  Texas 78701
SUMMARY:Open Mic Night With Ronnie Hall
DESCRIPTION: Open Mic Night With Ronnie Hall
END:VEVENT
END:VCALENDAR