BEGIN:VCALENDAR
VERSION:2.0
PRODID:-//eventon.com NONSGML v1.0//EN
BEGIN:VEVENT
UID:69e90ae46563f
DTSTAMP:20260422T125236
DTSTART:20190104T023000Z
DTEND:20190104T045000Z
LOCATION:
SUMMARY:Chris Castaneda Project
DESCRIPTION: Chris Castaneda Project
END:VEVENT
END:VCALENDAR