BEGIN:VCALENDAR
VERSION:2.0
PRODID:-//eventon.com NONSGML v1.0//EN
BEGIN:VEVENT
UID:69e9345dd7149
DTSTAMP:20260422T154933
DTSTART:20190106T024500Z
DTEND:20190106T045000Z
LOCATION:
SUMMARY:SmoovQ
DESCRIPTION: SmoovQ
END:VEVENT
END:VCALENDAR