BEGIN:VCALENDAR
VERSION:2.0
PRODID:-//eventon.com NONSGML v1.0//EN
BEGIN:VEVENT
UID:69e94e531d07e
DTSTAMP:20260422T174019
DTSTART:20190105T010000Z
DTEND:20190105T045000Z
LOCATION:
SUMMARY:Salsa Nights with Salero
DESCRIPTION: Salsa Nights with Salero
END:VEVENT
END:VCALENDAR