BEGIN:VCALENDAR
VERSION:2.0
PRODID:-//eventon.com NONSGML v1.0//EN
BEGIN:VEVENT
UID:69e952e614b78
DTSTAMP:20260422T175950
DTSTART:20190103T010000Z
DTEND:20190103T045000Z
LOCATION:
SUMMARY:Salsa Nights with Salero
DESCRIPTION: Salsa Nights with Salero
END:VEVENT
END:VCALENDAR