BEGIN:VCALENDAR
VERSION:2.0
PRODID:-//eventon.com NONSGML v1.0//EN
BEGIN:VEVENT
UID:69e97ff204e94
DTSTAMP:20260422T211202
DTSTART:20190101T050000Z
DTEND:20190102T045900Z
LOCATION:
SUMMARY:CLOSED - Happy New Year!
DESCRIPTION: CLOSED - Happy New Year!
END:VEVENT
END:VCALENDAR