BEGIN:VCALENDAR
VERSION:2.0
PRODID:-//eventon.com NONSGML v1.0//EN
BEGIN:VEVENT
UID:69e9811fd89bb
DTSTAMP:20260422T211703
DTSTART:20181231T050000Z
DTEND:20190101T045900Z
LOCATION:
SUMMARY:Speakeasy's Legendary New Year's Eve
DESCRIPTION: Purchase your tickets HERE!
END:VEVENT
END:VCALENDAR