BEGIN:VCALENDAR
VERSION:2.0
PRODID:-//eventon.com NONSGML v1.0//EN
BEGIN:VEVENT
UID:69eb2529160c4
DTSTAMP:20260424T030913
DTSTART:20161229T020000Z
DTEND:20161228T060000Z
LOCATION:
SUMMARY:B.A.R.E.N.Y.E. 2018
DESCRIPTION: B.A.R.E.N.Y.E. 2018
END:VEVENT
END:VCALENDAR