BEGIN:VCALENDAR
VERSION:2.0
PRODID:-//eventon.com NONSGML v1.0//EN
BEGIN:VEVENT
UID:69eb3bdda0d2c
DTSTAMP:20260424T044605
DTSTART:20181231T010000Z
DTEND:20181231T045000Z
LOCATION:
SUMMARY:B.A.R.E.N.Y.E.
DESCRIPTION: RSVP at speakeasybarenye2018.eventbrite.com !
END:VEVENT
END:VCALENDAR