BEGIN:VCALENDAR
VERSION:2.0
PRODID:-//eventon.com NONSGML v1.0//EN
BEGIN:VEVENT
UID:69e99d009e9c7
DTSTAMP:20260422T231600
DTSTART:20181230T024500Z
DTEND:20181230T045000Z
LOCATION:
SUMMARY:The Trick Question
DESCRIPTION: The Trick Question
END:VEVENT
END:VCALENDAR