BEGIN:VCALENDAR
VERSION:2.0
PRODID:-//eventon.com NONSGML v1.0//EN
BEGIN:VEVENT
UID:69e9b9377d56f
DTSTAMP:20260423T011623
DTSTART:20181225T050000Z
DTEND:20181226T045900Z
LOCATION:
SUMMARY:Closed: Happy Holidays!
DESCRIPTION: Closed: Happy Holidays!
END:VEVENT
END:VCALENDAR