BEGIN:VCALENDAR
VERSION:2.0
PRODID:-//eventon.com NONSGML v1.0//EN
BEGIN:VEVENT
UID:69e9d0cb959f7
DTSTAMP:20260423T025659
DTSTART:20161224T050000Z
DTEND:20161225T045900Z
LOCATION:
SUMMARY:Closed: Happy Holidays!
DESCRIPTION: Closed: Happy Holidays!
END:VEVENT
END:VCALENDAR