BEGIN:VCALENDAR
VERSION:2.0
PRODID:-//eventon.com NONSGML v1.0//EN
BEGIN:VEVENT
UID:69e9e7de73c8e
DTSTAMP:20260423T043526
DTSTART:20181213T050000Z
DTEND:20181214T045900Z
LOCATION:Speakeasy 412 Congress Ave\,  Austin\,  Texas 78701
SUMMARY:CLOSED FOR PRIVATE EVENT
DESCRIPTION: CLOSED FOR PRIVATE EVENT
END:VEVENT
END:VCALENDAR