BEGIN:VCALENDAR
VERSION:2.0
PRODID:-//eventon.com NONSGML v1.0//EN
BEGIN:VEVENT
UID:69e9ffe684dd4
DTSTAMP:20260423T061758
DTSTART:20181209T040000Z
DTEND:20181209T045000Z
LOCATION:
SUMMARY:The Motts
DESCRIPTION: The Motts
END:VEVENT
END:VCALENDAR