BEGIN:VCALENDAR
VERSION:2.0
PRODID:-//eventon.com NONSGML v1.0//EN
BEGIN:VEVENT
UID:69ea14ed832bd
DTSTAMP:20260423T074741
DTSTART:20181207T050000Z
DTEND:20181208T045900Z
LOCATION:Speakeasy 412 Congress Ave\,  Austin\,  Texas 78701
SUMMARY:CLOSED FOR PRIVATE EVENT
DESCRIPTION: CLOSED FOR PRIVATE EVENT
END:VEVENT
END:VCALENDAR