BEGIN:VCALENDAR
VERSION:2.0
PRODID:-//eventon.com NONSGML v1.0//EN
BEGIN:VEVENT
UID:69ea41ee275ab
DTSTAMP:20260423T105942
DTSTART:20180930T024500Z
DTEND:20180930T045000Z
LOCATION:
SUMMARY:The Trick Question
DESCRIPTION: The Trick Question
END:VEVENT
END:VCALENDAR