BEGIN:VCALENDAR
VERSION:2.0
PRODID:-//eventon.com NONSGML v1.0//EN
BEGIN:VEVENT
UID:69ea464678562
DTSTAMP:20260423T111814
DTSTART:20181229T024500Z
DTEND:20181229T045000Z
LOCATION:
SUMMARY:Safety Patrol
DESCRIPTION: Safety Patrol
END:VEVENT
END:VCALENDAR