BEGIN:VCALENDAR
VERSION:2.0
PRODID:-//eventon.com NONSGML v1.0//EN
BEGIN:VEVENT
UID:69ea5b37aa9fb
DTSTAMP:20260423T124735
DTSTART:20181228T023000Z
DTEND:20181228T045000Z
LOCATION:Speakeasy 412 Congress Ave\,  Austin\,  Texas 78701
SUMMARY:The Vinyl Revival
DESCRIPTION: The Vinyl Revival
END:VEVENT
END:VCALENDAR