BEGIN:VCALENDAR
VERSION:2.0
PRODID:-//eventon.com NONSGML v1.0//EN
BEGIN:VEVENT
UID:69ea6f109c01e
DTSTAMP:20260423T141216
DTSTART:20181222T024500Z
DTEND:20181222T045000Z
LOCATION:Speakeasy 412 Congress Ave\,  Austin\,  Texas 78701
SUMMARY:Thomas and Hall
DESCRIPTION: 9:45pm to 1:45am Thomas & Hall
END:VEVENT
END:VCALENDAR