BEGIN:VCALENDAR
VERSION:2.0
PRODID:-//eventon.com NONSGML v1.0//EN
BEGIN:VEVENT
UID:69ea82b0320a0
DTSTAMP:20260423T153600
DTSTART:20181221T023000Z
DTEND:20181221T045000Z
LOCATION:
SUMMARY:Chris Castaneda Project
DESCRIPTION: Chris Castaneda Project
END:VEVENT
END:VCALENDAR