BEGIN:VCALENDAR
VERSION:2.0
PRODID:-//eventon.com NONSGML v1.0//EN
BEGIN:VEVENT
UID:69ea996e97e44
DTSTAMP:20260423T171302
DTSTART:20181215T024500Z
DTEND:20181215T045000Z
LOCATION:
SUMMARY:High Road
DESCRIPTION: High Road
END:VEVENT
END:VCALENDAR