BEGIN:VCALENDAR
VERSION:2.0
PRODID:-//eventon.com NONSGML v1.0//EN
BEGIN:VEVENT
UID:69eab0a0a6619
DTSTAMP:20260423T185200
DTSTART:20181219T023000Z
DTEND:20181219T045000Z
LOCATION:
SUMMARY:Kevin Taylor
DESCRIPTION: Kevin Taylor
END:VEVENT
END:VCALENDAR