BEGIN:VCALENDAR
VERSION:2.0
PRODID:-//eventon.com NONSGML v1.0//EN
BEGIN:VEVENT
UID:69eaca9d37770
DTSTAMP:20260423T204253
DTSTART:20181204T023000Z
DTEND:20181204T045000Z
LOCATION:Speakeasy 412 Congress Ave\,  Austin\,  Texas 78701
SUMMARY:Open Mic Night With Ronnie Hall
DESCRIPTION: Open Mic Night With Ronnie Hall
END:VEVENT
END:VCALENDAR