BEGIN:VCALENDAR
VERSION:2.0
PRODID:-//eventon.com NONSGML v1.0//EN
BEGIN:VEVENT
UID:69eaf90fcc120
DTSTAMP:20260424T000103
DTSTART:20181202T024500Z
DTEND:20181202T045000Z
LOCATION:Speakeasy 412 Congress Ave\,  Austin\,  Texas 78701
SUMMARY:Trick Shot
DESCRIPTION: Trick Shot
END:VEVENT
END:VCALENDAR