BEGIN:VCALENDAR
VERSION:2.0
PRODID:-//eventon.com NONSGML v1.0//EN
BEGIN:VEVENT
UID:69eb50cdcfc1b
DTSTAMP:20260424T061525
DTSTART:20181205T023000Z
DTEND:20181205T045000Z
LOCATION:
SUMMARY:Kevin Taylor
DESCRIPTION: Kevin Taylor
END:VEVENT
END:VCALENDAR