BEGIN:VCALENDAR
VERSION:2.0
PRODID:-//eventon.com NONSGML v1.0//EN
BEGIN:VEVENT
UID:69eb688003a6d
DTSTAMP:20260424T075632
DTSTART:20181125T024500Z
DTEND:20181125T045000Z
LOCATION:
SUMMARY:Safety Patrol
DESCRIPTION: Safety Patrol
END:VEVENT
END:VCALENDAR