BEGIN:VCALENDAR
VERSION:2.0
PRODID:-//eventon.com NONSGML v1.0//EN
BEGIN:VEVENT
UID:69eb7c06ded46
DTSTAMP:20260424T091950
DTSTART:20181118T024500Z
DTEND:20181118T045000Z
LOCATION:Speakeasy 412 Congress Ave\,  Austin\,  Texas 78701
SUMMARY:Suede
DESCRIPTION: Suede
END:VEVENT
END:VCALENDAR