BEGIN:VCALENDAR
VERSION:2.0
PRODID:-//eventon.com NONSGML v1.0//EN
BEGIN:VEVENT
UID:69eb945619204
DTSTAMP:20260424T110334
DTSTART:20181117T024500Z
DTEND:20181117T045000Z
LOCATION:
SUMMARY:Memphis Train Revue
DESCRIPTION: Memphis Train Revue
END:VEVENT
END:VCALENDAR