BEGIN:VCALENDAR
VERSION:2.0
PRODID:-//eventon.com NONSGML v1.0//EN
BEGIN:VEVENT
UID:69eba5a8e06fe
DTSTAMP:20260424T121728
DTSTART:20181116T023000Z
DTEND:20181116T045000Z
LOCATION:
SUMMARY:Oscar Ornelas
DESCRIPTION: Oscar Ornelas
END:VEVENT
END:VCALENDAR