BEGIN:VCALENDAR
VERSION:2.0
PRODID:-//eventon.com NONSGML v1.0//EN
BEGIN:VEVENT
UID:69ebb8b5c2404
DTSTAMP:20260424T133845
DTSTART:20181115T010000Z
DTEND:20181115T045000Z
LOCATION:
SUMMARY:Salsa Nights with Salero
DESCRIPTION: Salsa Nights with Salero
END:VEVENT
END:VCALENDAR