BEGIN:VCALENDAR
VERSION:2.0
PRODID:-//eventon.com NONSGML v1.0//EN
BEGIN:VEVENT
UID:69ebd0184bb19
DTSTAMP:20260424T151832
DTSTART:20181114T023000Z
DTEND:20181114T045000Z
LOCATION:
SUMMARY:Kevin Taylor
DESCRIPTION: Kevin Taylor
END:VEVENT
END:VCALENDAR