BEGIN:VCALENDAR
VERSION:2.0
PRODID:-//eventon.com NONSGML v1.0//EN
BEGIN:VEVENT
UID:69ebe8ad3a7b7
DTSTAMP:20260424T170325
DTSTART:20181111T024500Z
DTEND:20181111T045000Z
LOCATION:Speakeasy 412 Congress Ave\,  Austin\,  Texas 78701
SUMMARY:Rock Hard
DESCRIPTION: Rock Hard
END:VEVENT
END:VCALENDAR