BEGIN:VCALENDAR
VERSION:2.0
PRODID:-//eventon.com NONSGML v1.0//EN
BEGIN:VEVENT
UID:69ebfeb921f99
DTSTAMP:20260424T183729
DTSTART:20181110T024500Z
DTEND:20181110T045000Z
LOCATION:
SUMMARY:High Road
DESCRIPTION: High Road
END:VEVENT
END:VCALENDAR